

BEGIN:VCALENDAR
VERSION:2.0
PRODID:-//Center for Victim Research - ECPv6.15.18//NONSGML v1.0//EN
CALSCALE:GREGORIAN
METHOD:PUBLISH
X-WR-CALNAME:Center for Victim Research
X-ORIGINAL-URL:https://victimresearch.org
X-WR-CALDESC:Events for Center for Victim Research
REFRESH-INTERVAL;VALUE=DURATION:PT1H
X-Robots-Tag:noindex
X-PUBLISHED-TTL:PT1H
BEGIN:VTIMEZONE
TZID:America/New_York
BEGIN:DAYLIGHT
TZOFFSETFROM:-0500
TZOFFSETTO:-0400
TZNAME:EDT
DTSTART:20230312T070000
END:DAYLIGHT
BEGIN:STANDARD
TZOFFSETFROM:-0400
TZOFFSETTO:-0500
TZNAME:EST
DTSTART:20231105T060000
END:STANDARD
BEGIN:DAYLIGHT
TZOFFSETFROM:-0500
TZOFFSETTO:-0400
TZNAME:EDT
DTSTART:20240310T070000
END:DAYLIGHT
BEGIN:STANDARD
TZOFFSETFROM:-0400
TZOFFSETTO:-0500
TZNAME:EST
DTSTART:20241103T060000
END:STANDARD
BEGIN:DAYLIGHT
TZOFFSETFROM:-0500
TZOFFSETTO:-0400
TZNAME:EDT
DTSTART:20250309T070000
END:DAYLIGHT
BEGIN:STANDARD
TZOFFSETFROM:-0400
TZOFFSETTO:-0500
TZNAME:EST
DTSTART:20251102T060000
END:STANDARD
END:VTIMEZONE
BEGIN:VEVENT
DTSTART;VALUE=DATE:20240916
DTEND;VALUE=DATE:20240920
DTSTAMP:20260424T061759
CREATED:20240325T122807Z
LAST-MODIFIED:20240325T122807Z
UID:5693-1726444800-1726790399@victimresearch.org
SUMMARY:2024 NAPSA Conference
DESCRIPTION:The National Adult Protective Services Association (NAPSA) Conference is the only national conference that focuses solely on Adult Protective Services (APS) and this year they are thrilled to partner with the State of New Mexico\, Aging and Long-Term Services Department for our 2024 Conference. Together\, conference organizers hope to offer more than 100 workshops and attract 1\,000 attendees from Adult Protective Service units across the US as well as allied professionals in government\, law enforcement\, medicine\, banking & finance\, legal systems\, nursing homes/ombudsman\, community based organizations and more! \nLearn more
URL:https://victimresearch.org/event/2024-napsa-conference/
CATEGORIES:Conferences for Victim Services,External Events
END:VEVENT
END:VCALENDAR