

BEGIN:VCALENDAR
VERSION:2.0
PRODID:-//Center for Victim Research - ECPv6.15.18//NONSGML v1.0//EN
CALSCALE:GREGORIAN
METHOD:PUBLISH
X-ORIGINAL-URL:https://victimresearch.org
X-WR-CALDESC:Events for Center for Victim Research
REFRESH-INTERVAL;VALUE=DURATION:PT1H
X-Robots-Tag:noindex
X-PUBLISHED-TTL:PT1H
BEGIN:VTIMEZONE
TZID:America/New_York
BEGIN:DAYLIGHT
TZOFFSETFROM:-0500
TZOFFSETTO:-0400
TZNAME:EDT
DTSTART:20230312T070000
END:DAYLIGHT
BEGIN:STANDARD
TZOFFSETFROM:-0400
TZOFFSETTO:-0500
TZNAME:EST
DTSTART:20231105T060000
END:STANDARD
BEGIN:DAYLIGHT
TZOFFSETFROM:-0500
TZOFFSETTO:-0400
TZNAME:EDT
DTSTART:20240310T070000
END:DAYLIGHT
BEGIN:STANDARD
TZOFFSETFROM:-0400
TZOFFSETTO:-0500
TZNAME:EST
DTSTART:20241103T060000
END:STANDARD
BEGIN:DAYLIGHT
TZOFFSETFROM:-0500
TZOFFSETTO:-0400
TZNAME:EDT
DTSTART:20250309T070000
END:DAYLIGHT
BEGIN:STANDARD
TZOFFSETFROM:-0400
TZOFFSETTO:-0500
TZNAME:EST
DTSTART:20251102T060000
END:STANDARD
END:VTIMEZONE
BEGIN:VEVENT
DTSTART;TZID=America/New_York:20240709T120000
DTEND;TZID=America/New_York:20240709T130000
DTSTAMP:20260423T080826
CREATED:20240604T145932Z
LAST-MODIFIED:20240604T145932Z
UID:5805-1720526400-1720530000@victimresearch.org
SUMMARY:Community Firearm Violence Exposure and Weapon Carrying
DESCRIPTION:Join the National Collaborative on Gun Violence Research for this webinar focused on community violence prevention\, examining the complexities of firearm violence through the lens of recent research funded by NCGVR. Specifically\, this session zeroes in on urban gun violence\, the leading cause of death for young Black men. \nIn the first presentation\, Charles Lanfear\, Ph.D\, discusses a longitudinal study of Chicago residents that exposes stark disparities in the experiences of firearm violence and firearm carrying based on race\, sex\, and birth cohort. Highlighting the varying ages of first exposure to gun violence and onset of gun carrying\, the study emphasizes changing societal conditions over time and their impact on individuals’ encounters with gun violence and gun carrying over the life course. Next\, Elise White\, Ph.D.\, offers an intimate look at the lives of young gun-carriers in Crown Heights\, Brooklyn. Through personal narratives\, the research uncovers the pervasive fear driving these young individuals—predominantly Black men—to arm themselves\, amidst a backdrop of limited economic opportunities and mistrust of law enforcement. In the final presentation\, Dorothy Dillard\, Ph.D\, discusses the environmental factors influencing gun possession decisions among young Black men in high crime cities. By examining the lived experiences of these individuals\, the presentation highlights a need for community-centric approaches to safety and prevention. \nLearn more and REGISTER
URL:https://victimresearch.org/event/community-firearm-violence-exposure-and-weapon-carrying/
CATEGORIES:External Events,Webinar
END:VEVENT
BEGIN:VEVENT
DTSTART;TZID=America/New_York:20240709T140000
DTEND;TZID=America/New_York:20240709T150000
DTSTAMP:20260423T080826
CREATED:20240617T130022Z
LAST-MODIFIED:20240617T131155Z
UID:5825-1720533600-1720537200@victimresearch.org
SUMMARY:Measuring Victim Service Outcomes with iMPRoVE
DESCRIPTION:Join CVR staff and colleagues to learn about the free iMPRoVE tool for measuring victim service outcomes. iMPRoVE (Measuring Provider Responses to Victimization Experiences)\, made available for all victim and survivor-serving organizations through funding from the Office for Victims of Crime\, is designed to help providers gather crucial feedback about the outcomes and quality of the services. \niMPRoVE simplifies data collection\, enabling victims and survivors to anonymously share their experiences about the services they received and how those services affected their lives and well-being. This valuable feedback can then be tracked over time and benchmarked against the results of other\, similar programs to help providers enhance program design\, improve service delivery\, build staff morale\, and demonstrate the effectiveness of services. These data are also being used to target training\, build community partnerships and even strengthen requests for additional funding. \nThis introductory webinar is offered July 9 and 17. \nRegister
URL:https://victimresearch.org/event/measuring-victim-service-outcomes-with-improve-2/
CATEGORIES:Webinar
END:VEVENT
BEGIN:VEVENT
DTSTART;VALUE=DATE:20240714
DTEND;VALUE=DATE:20240717
DTSTAMP:20260423T080826
CREATED:20240201T142258Z
LAST-MODIFIED:20240206T150946Z
UID:5568-1720915200-1721174399@victimresearch.org
SUMMARY:Violence Prevention Research Conference
DESCRIPTION:This conference is co-sponsored by the University of New Hampshire and the University of Kentucky and will be held in Portsmouth\, New Hampshire. It is both a new iteration and a continuation of the formally known “Family Violence and Child Victimization Conference.” The conference will have a focus on multiple forms of violence\, with an emphasis on prevention. This conference will offer a unique opportunity for researchers and practitioners from a broad array of disciplines to come together for the purpose of sharing\, integrating\, and critiquing accumulated knowledge on violence prevention. \nInterested in presenting? Proposals/Abstracts deadline March 2. \nLearn more
URL:https://victimresearch.org/event/violence-prevention-research-conference/
CATEGORIES:Conferences for Victim Services
END:VEVENT
BEGIN:VEVENT
DTSTART;TZID=America/New_York:20240717T140000
DTEND;TZID=America/New_York:20240717T150000
DTSTAMP:20260423T080826
CREATED:20240617T131030Z
LAST-MODIFIED:20240617T131302Z
UID:5827-1721224800-1721228400@victimresearch.org
SUMMARY:Measuring Victim Service Outcomes with iMPRoVE
DESCRIPTION:Join CVR staff and colleagues to learn about the free iMPRoVE tool for measuring victim service outcomes. iMPRoVE (Measuring Provider Responses to Victimization Experiences)\, made available for all victim and survivor-serving organizations through funding from the Office for Victims of Crime\, is designed to help providers gather crucial feedback about the outcomes and quality of the services. \niMPRoVE simplifies data collection\, enabling victims and survivors to anonymously share their experiences about the services they received and how those services affected their lives and well-being. This valuable feedback can then be tracked over time and benchmarked against the results of other\, similar programs to help providers enhance their program design\, improve service delivery\, build staff morale\, and demonstrate the effectiveness of services. These data are also being used to design training\, build community partnerships and even strengthen requests for additional funding. \nThis introductory webinar is offered July 9 and 17. \nREGISTER
URL:https://victimresearch.org/event/measuring-victim-service-outcomes-with-improve-3/
CATEGORIES:Webinar
END:VEVENT
END:VCALENDAR