

BEGIN:VCALENDAR
VERSION:2.0
PRODID:-//Center for Victim Research - ECPv6.15.18//NONSGML v1.0//EN
CALSCALE:GREGORIAN
METHOD:PUBLISH
X-WR-CALNAME:Center for Victim Research
X-ORIGINAL-URL:https://victimresearch.org
X-WR-CALDESC:Events for Center for Victim Research
REFRESH-INTERVAL;VALUE=DURATION:PT1H
X-Robots-Tag:noindex
X-PUBLISHED-TTL:PT1H
BEGIN:VTIMEZONE
TZID:America/New_York
BEGIN:DAYLIGHT
TZOFFSETFROM:-0500
TZOFFSETTO:-0400
TZNAME:EDT
DTSTART:20210314T070000
END:DAYLIGHT
BEGIN:STANDARD
TZOFFSETFROM:-0400
TZOFFSETTO:-0500
TZNAME:EST
DTSTART:20211107T060000
END:STANDARD
BEGIN:DAYLIGHT
TZOFFSETFROM:-0500
TZOFFSETTO:-0400
TZNAME:EDT
DTSTART:20220313T070000
END:DAYLIGHT
BEGIN:STANDARD
TZOFFSETFROM:-0400
TZOFFSETTO:-0500
TZNAME:EST
DTSTART:20221106T060000
END:STANDARD
BEGIN:DAYLIGHT
TZOFFSETFROM:-0500
TZOFFSETTO:-0400
TZNAME:EDT
DTSTART:20230312T070000
END:DAYLIGHT
BEGIN:STANDARD
TZOFFSETFROM:-0400
TZOFFSETTO:-0500
TZNAME:EST
DTSTART:20231105T060000
END:STANDARD
END:VTIMEZONE
BEGIN:VEVENT
DTSTART;TZID=America/New_York:20220201T080000
DTEND;TZID=America/New_York:20220201T170000
DTSTAMP:20260423T111242
CREATED:20220201T185258Z
LAST-MODIFIED:20220201T185258Z
UID:4448-1643702400-1643734800@victimresearch.org
SUMMARY:Teen Dating Violence Awareness and Prevention Month
DESCRIPTION:February is National Teen Dating Violence Awareness and Prevention Month (TDVAM). This is an issue that impacts everyone – not just teens – but their parents\, teachers\, friends and communities as well. Together\, we can raise the nation’s awareness about teen dating violence and promote safe\, healthy relationships. \nCheck out CVR’s Winter 2021-2022 Spotlight which has a section of research-based resources about teen dating violence.
URL:https://victimresearch.org/event/teen-dating-violence-awareness-and-prevention-month/
END:VEVENT
BEGIN:VEVENT
DTSTART;TZID=America/New_York:20220210T120000
DTEND;TZID=America/New_York:20220210T130000
DTSTAMP:20260423T111242
CREATED:20220201T184530Z
LAST-MODIFIED:20220201T184530Z
UID:4446-1644494400-1644498000@victimresearch.org
SUMMARY:Support Over Silence for KIDS
DESCRIPTION:Dr. Nancy Weaver will discuss how to apply communication sciences\, analytics\, and public health principles to promote healthy and positive parenting to reduce the prevalence of childhood abuse and neglect. During this webinar\, she’ll discuss Support Over Silence for KIDS\, which teaches bystanders the skills for responding to struggles between caregivers and children in public. Dr. Weaver created this program to educate community members about how to listen empathetically and non-judgmentally to parents and caregivers in tense situations to help deescalate what’s happening in the moment. \nNancy L. Weaver\, PhD\, MPH is a Professor of Behavioral Science at Saint Louis University.  She blends communication science\, analytics and public health principles to support institutions in adopting effective public health programs.  Whether encouraging nurturing relationships between parents and kids\, or coaching instructors in best practices for connecting with their students online\, she advances strength-based messages that are easy to understand and tools that are easy to apply. She launched Support Over Silence for KIDS to provide communities with bystander training to support parents struggling with their children in public. Dr. Weaver is Co-director of the Community Engagement Core of the Center for Innovation in Child Maltreatment at Washington University and works in partnership with community organizations across the country. \nREGISTER
URL:https://victimresearch.org/event/support-over-silence-for-kids/
CATEGORIES:External Events,Webinar
END:VEVENT
BEGIN:VEVENT
DTSTART;TZID=America/New_York:20220223T140000
DTEND;TZID=America/New_York:20220223T150000
DTSTAMP:20260423T111242
CREATED:20211217T194227Z
LAST-MODIFIED:20211217T194227Z
UID:4358-1645624800-1645628400@victimresearch.org
SUMMARY:Missing and Murdered Indigenous Women and Girls
DESCRIPTION:On February 23\, 2022\, at 2:00 p.m. e.t.\, the Office for Victims of Crime Training and Technical Assistance Center will present an online Expert Q&A discussion with Nicole Matthews and Alicia Nevaquaya on “Missing and Murdered Indigenous Women and Girls.” \nIndigenous people across the country have sounded the alarm for years about the disturbing and disproportionate rates of missing and murdered Indigenous women and girls in the United States. It is only in recent months that the media and public attention began to look at the crisis. This session is an opportunity for advocates and other allies to increase their understanding of the alarming prevalence of missing and murdered Indigenous women and girls and how\, as the Urban Indian Health Institute says\, “… institutional practices allow them to disappear not once\, but three times—in life\, in media\, and in the data.” \nREGISTER
URL:https://victimresearch.org/event/missing-and-murdered-indigenous-women-and-girls/
CATEGORIES:External Events,Webinar
END:VEVENT
BEGIN:VEVENT
DTSTART;TZID=America/New_York:20220223T150000
DTEND;TZID=America/New_York:20220223T160000
DTSTAMP:20260423T111242
CREATED:20220104T231913Z
LAST-MODIFIED:20220202T163732Z
UID:4381-1645628400-1645632000@victimresearch.org
SUMMARY:Social Reactions to Sexual Assault
DESCRIPTION:This webinar\, another in the CVR Evidence Hour series\, reviews research on correlates and impacts of social reactions made to victims disclosing sexual assault and partner violence. Findings about trauma disclosure and social reactions are presented from survivors and their informal support members (e.g.\, family\, friend\, romantic partner). Recommendations from survivors and informal supports about what survivors need and information from a recent intervention to improve social reactions to survivor disclosures are reviewed. \nThis webinar highlights: “Correlates of Social Reactions to Victims’ Disclosures of Sexual Assault and Intimate Partner Violence: A Systematic Review” by S. E. Ullman\, (2021). Trauma\, Violence\, & Abuse\, 15248380211016013. (Contact the Research Librarian for access.) \nPresenters: \nDr. Sarah Ullman is Professor of Criminology\, Law\, & Justice and Affiliate Professor of Psychology at the University of Illinois at Chicago. She is a social psychologist whose research concerns the impact of sexual assault on women’s well-being. She has conducted NIH-funded research on risk and protective factors for PTSD and substance abuse and other health-related outcomes in rape victims\, social support processes in a dyadic sample of victims and informal social network members\, and an intervention to reduce negative social reactions to victims of sexual assault and partner violence. \nKris Bein is the Assistant Director for the Resource Sharing Project\, where she provides training and technical assistance to state coalitions and rural rape crisis centers on sexual assault services\, agency structure\, and capacity building. She holds a master’s degree in Human Services from the University of Illinois. \nREGISTER
URL:https://victimresearch.org/event/social-reactions-to-sexual-assault/
CATEGORIES:CVR Events,Webinar
END:VEVENT
BEGIN:VEVENT
DTSTART;VALUE=DATE:20220224
DTEND;VALUE=DATE:20220226
DTSTAMP:20260423T111242
CREATED:20211019T163726Z
LAST-MODIFIED:20211019T163726Z
UID:4169-1645660800-1645833599@victimresearch.org
SUMMARY:Tamkin Symposium on Elder Abuse
DESCRIPTION:The mission of the USC Judith D. Tamkin International Symposium on Elder Abuse is to create safe and healthy environments for all elders\, here and across the world\, by bringing thought leaders\, activists\, caregivers\, researchers\, lawmakers\, and other stakeholders together to share findings\, strategize solutions\, and help shape and propel the field of elder abuse and justice. \nThe theme for 2022 is “Elder Justice: Expanding the Field through Equity\, Intersectionality\, and Innovation.” \nEarly Bird Registration Deadline is January 10\, 2022. \nREGISTER
URL:https://victimresearch.org/event/tamkin-symposium-on-elder-abuse/
CATEGORIES:Conferences for Victim Services,External Events
END:VEVENT
END:VCALENDAR